BEGIN:VCALENDAR
METHOD:PUBLISH
VERSION:2.0
X-WR-CALNAME:columbiahalle_2026-06-07_woodz
PRODID:-//hacksw/handcal//NONSGML v1.0//EN
BEGIN:VEVENT
UID:9726@Columbiahalle
DTSTAMP:20260422T021124Z
DTSTART:20260607T180000Z
DTEND:20260607T220000Z
SUMMARY:Woodz\, 2026 WOODZ WORLD TOUR
DESCRIPTION:2026 WOODZ WORLD TOUR＇Archive. 1＇Europe📍2026.06.07 ➫ Berlin ➫ ColumbiahalleWOODZ\, an artist needs no introduction. With over 1 billion streams worldwide\, WOODZ has firmly established himself as one of the most compelling voices in modern Korean alternative rock. Anthems including ‘Drowning’\, ‘AMNESIA’\, ‘I Hate You’\, ‘Love Me Harder’\, and ‘Sun or Suck’ alone have amassed over 500 million streams\, cementing his reputation as one of the genre’s most celebrated names. Following his sold-out 2023 world tour\, WOODZ achieved an extraordinary milestone during his Korean military service as Drowning rose to #1 on the music charts.Now\, the endless drowning rain finally comes to an end for MOODZ. Spring returns as WOODZ makes his long-awaited debut full album＇Archive. 1＇\, and reunites with fans across the world. Prepare to fall in love once again as WOODZ takes the stage with electrifying energy and the emotional depth that defines his music.#WOODZ #우즈#Archive1_in_Europe#OnionProduction @onionproduction
LOCATION:Columbiahalle\, Columbiadamm 13-21\, 10965 Berlin
GEO:52.4845171;13.3905217
URL;VALUE=URI:http://columbiahalle.berlin/de#event_9726
END:VEVENT
END:VCALENDAR