BEGIN:VCALENDAR
METHOD:PUBLISH
VERSION:2.0
X-WR-CALNAME:columbiahalle_2026-06-14_thestreets
PRODID:-//hacksw/handcal//NONSGML v1.0//EN
BEGIN:VEVENT
UID:9653@Columbiahalle
DTSTAMP:20260420T005625Z
DTSTART:20260614T180000Z
DTEND:20260614T220000Z
SUMMARY:The Streets\, &#34;A Graand Don&#39;t Come for Free&#34; Tour 2026
DESCRIPTION:Diese Show wird von RADIO EINS präsentiert.
LOCATION:Columbiahalle\, Columbiadamm 13-21\, 10965 Berlin
GEO:52.4845171;13.3905217
URL;VALUE=URI:http://columbiahalle.berlin/de#event_9653
END:VEVENT
END:VCALENDAR