BEGIN:VCALENDAR
METHOD:PUBLISH
VERSION:2.0
X-WR-CALNAME:columbiahalle_2026-05-05_skillet
PRODID:-//hacksw/handcal//NONSGML v1.0//EN
BEGIN:VEVENT
UID:7353@Columbiahalle
DTSTAMP:20260419T205047Z
DTSTART:20260505T180000Z
DTEND:20260505T220000Z
SUMMARY:Skillet\, Support: Storm Orchestra
DESCRIPTION:
LOCATION:Columbiahalle\, Columbiadamm 13-21\, 10965 Berlin
GEO:52.4845171;13.3905217
URL;VALUE=URI:http://columbiahalle.berlin/de#event_7353
END:VEVENT
END:VCALENDAR