BEGIN:VCALENDAR
METHOD:PUBLISH
VERSION:2.0
X-WR-CALNAME:columbiahalle_2026-08-15_ravetheplanet2026officialafterparty
PRODID:-//hacksw/handcal//NONSGML v1.0//EN
BEGIN:VEVENT
UID:9738@Columbiahalle
DTSTAMP:20260422T155750Z
DTSTART:20260815T210000Z
DTEND:20260815T220000Z
SUMMARY:Rave The Planet 2026 Official Afterparty\, Imagine Love
DESCRIPTION:Als im Sommer 2022 die erste Rave The Planet Parade über den Berliner Ku’damm rollen sollte\, war noch niemandem klar\, wo die Reise hingeht. Nach zwei Jahren Stillstand\, Unsicherheit und Abstand.\nDoch als dann am 9. Juli 2022 um 14 Uhr die Parade startete\, waren alle Zweifel vergessen. 300.000 Menschen hatten sich zur ersten Rave The Planet Parade in Berlin versammelt.\nSeitdem ist die Rave The Planet Parade fester Bestandteil des Berliner Sommers und Treffpunkt einer globalen Technokultur. Menschen reisen aus aller Welt an\, um Teil davon zu sein. Jahr für Jahr.\n2026 findet die Parade zum fünften Mal statt – genau 20 Jahre nach der letzten Loveparade in Berlin.\nFünf Jahre Parade. Fünf Jahre kollektiver Ausnahmezustand. Dieses Jubiläum feiern wir\, bei der Rave The Planet Parade selbst – und dieses Jahr erstmals auch mit einer eigenen\, offiziellen Afterparty:\nMit der RAVE THE PLANET Official Afterparty – IMAGINE LOVE bringen wir die Energie der Parade direkt auf den Dancefloor der Columbiahalle. Erstmals kuratiert und veranstaltet von Rave The Planet selbst – als der eine Ort für alle\, die nach der Parade noch lange nicht genug haben.\nEs ist kein Zufall\, dass die Wahl der Location auf die Columbiahalle gefallen ist. Hier wurde schon nach der Loveparade weitergefeiert – in Nächten\, über die man heute noch spricht. Die Location ist groß genug für viele – und genau richtig\, um den Spirit von „One Family“ hautnah zu fühlen. Ein Raum\, in dem sich Generationen\, Perspektiven und Geschichten begegnen.\nDas Line-up spannt genau diesen Bogen: von den Roots of Techno bis ins Hier und Heute. Die DJ-Legenden DJ Rush und Dr. Motte treffen auf die international gefeierte Headlinerin Nakadia sowie Teenage Mutants und Tommahawk – die gemeinsam mit Dr. Motte die diesjährige Parade-Hymne „IMAGINE LOVE“ produziert hat.\nSichere dir jetzt dein Ticket und sei Teil davon!
LOCATION:Columbiahalle\, Columbiadamm 13-21\, 10965 Berlin
GEO:52.4845171;13.3905217
URL;VALUE=URI:http://columbiahalle.berlin/de#event_9738
END:VEVENT
END:VCALENDAR