BEGIN:VCALENDAR
METHOD:PUBLISH
VERSION:2.0
X-WR-CALNAME:columbiahalle_2026-09-23_pisse
PRODID:-//hacksw/handcal//NONSGML v1.0//EN
BEGIN:VEVENT
UID:9662@Columbiahalle
DTSTAMP:20260419T194519Z
DTSTART:20260923T180000Z
DTEND:20260923T220000Z
SUMMARY:Pisse
DESCRIPTION:
LOCATION:Columbiahalle\, Columbiadamm 13-21\, 10965 Berlin
GEO:52.4845171;13.3905217
URL;VALUE=URI:http://columbiahalle.berlin/de#event_9662
END:VEVENT
END:VCALENDAR