BEGIN:VCALENDAR
METHOD:PUBLISH
VERSION:2.0
X-WR-CALNAME:columbiahalle_2026-10-21_jassin
PRODID:-//hacksw/handcal//NONSGML v1.0//EN
BEGIN:VEVENT
UID:9675@Columbiahalle
DTSTAMP:20260419T194217Z
DTSTART:20261021T180000Z
DTEND:20261021T220000Z
SUMMARY:Jassin\, Die Größere Arsenalplatz Tour
DESCRIPTION:\n\n\n&#34;Alles\, was ich weiß\, ist: Ich muss mir was beweisen.&#34; Mit dieser Zeile öffnet Jassin sein erst kürzlich erschienenes Debütalbum &#34;Arsenalplatz&#34; (VÖ: 28.11.25) – und trifft damit den Kern seines künstlerischen Antriebs. Es ist ein Album über das Aufwachsen in der ostdeutschen Kleinstadt\, über Herkunft\, Entfremdung\, Wut\, Scham\, Stolz und das Bedürfnis\, verstanden zu werden. Jassin erzählt in Bildern\, die so präzise sind\, dass sie weh tun – und so ehrlich\, dass sie trösten.\nAll das macht &#34;Arsenalplatz&#34; zu einem beeindruckenden nächsten Kapitel nach der &#34;Kinder können fies sein&#34;-EP\, Songs wie &#34;Bitte sei vorsichtig&#34; und Features mit Trettmann (&#34;Nach Hause komm&#39;&#34;) oder Disarstar (&#34;Tochter&#34;). Es ist ein Album\, das seine radikale Ehrlichkeit\, die Schärfe seiner Gesellschaftskritik und die Zartheit seiner Geschichten bündelt und weiterführt.\nNeben Support-Shows für RIN [&] Schmyt\, Paula Hartmann\, Trettmann\, Apsilon\, Berq\, ENNIO und $OHO BANI spielte Jassin im April 2025 seine erste eigene\, komplett ausverkaufte &#34;KKFS Tour 2025&#34;. Nun steht er kurz vor Beginn seiner ausverkauften &#34;Arsenalplatz Tour&#34; 2025 und kündigt die &#34;Die größere Arsenalplatz Tour&#34; 2026 durch Deutschland Österreich und die Schweiz an. Tickets gibt es ab sofort exklusiv bei Krasser Stoff.\n\n\n
LOCATION:Columbiahalle\, Columbiadamm 13-21\, 10965 Berlin
GEO:52.4845171;13.3905217
URL;VALUE=URI:http://columbiahalle.berlin/de#event_9675
END:VEVENT
END:VCALENDAR