BEGIN:VCALENDAR
METHOD:PUBLISH
VERSION:2.0
X-WR-CALNAME:columbiahalle_2026-03-14_102boyz
PRODID:-//hacksw/handcal//NONSGML v1.0//EN
BEGIN:VEVENT
UID:7316@Columbiahalle
DTSTAMP:20260419T193744Z
DTSTART:20260314T183000Z
DTEND:20260314T230000Z
SUMMARY:102Boyz\, Asozial Allstars: Royal Rumble
DESCRIPTION:Schnallt die Bauchtaschen um und haltet die Kornmische bereit. Die 102 Boyz gehen wieder auf Tour. Nach wilden Festival-Ekstasen und vielen unvergesslichen Momenten in den letzten Jahren\, meldet sich die Crew aus Leer mit neuen Live-Dates\, garantierter Eskalation zurück.\nMit ihrem neusten gemeinsamen Album „Asozial Allstars 5“ setzten Addikt\, Chapo\, Duke\, Kkuba\, Skoob\, Stacks und Toni 2024 ein musikalisches Statement\, das eindrucksvoll zeigt\, wie stark sie als Kollektiv funktionieren.[nbsp]\nMit ihrem unverwechselbaren Sound zwischen Straße\, Suff und Selbstironie haben sich die 102 Boyz längst ihren eigenen Platz in der Szene gesichert - direkt zwischen Abriss und Authentizität.Die 102 Boyz bringen Moshpits wie Naturgewalten und eine Crowd\, die den Boden zum Beben bringt. Ob Rock am Ring\, Splash! oder Openair Frauenfeld – wer die 102 Boyz schon mal live erlebt hat\, weiß: Das ist kein einfaches Konzert. Das ist Krawall mit Küstensiegel.\nAuf 14 Terminen in Deutschland\, Österreich und der Schweiz wird es 2026 lauter und wilder denn je. Ein Pflichttermin für alle\, die echte Live-Energie spüren wollen - Der Abriss kommt in deine Stadt!\n[nbsp]\nPräsentiert von Radio Fritz
LOCATION:Columbiahalle\, Columbiadamm 13-21\, 10965 Berlin
GEO:52.4845171;13.3905217
URL;VALUE=URI:http://columbiahalle.berlin/de#event_7316
END:VEVENT
END:VCALENDAR